BEGIN:VCALENDAR
PRODID:-//AT Content Types//AT Event//EN
VERSION:2.0
METHOD:PUBLISH
BEGIN:VEVENT
DTSTAMP:20260419T153518Z
CREATED:20181106T085231Z
UID:ATEvent-da1b9499e5f947b5a705e0a25f8ffab7
LAST-MODIFIED:20181106T085233Z
SUMMARY:Horizonte Habana
DTSTART:20181112T080000Z
DTEND:20181126T180000Z
DESCRIPTION:Mostra di immagini e proposte progettuali
LOCATION:Dipartimento di Architettura UNIFE - Palazzo Tassoni (via della Ghiara 36\, Ferrara)
CONTACT:giuseppe.scandurra@unife.it
CLASS:PUBLIC
END:VEVENT
END:VCALENDAR
