BEGIN:VCALENDAR
PRODID:-//AT Content Types//AT Event//EN
VERSION:2.0
METHOD:PUBLISH
BEGIN:VEVENT
DTSTAMP:20260419T154047Z
CREATED:20190214T095551Z
UID:ATEvent-32b3e8c781ec49dd8362b8c08d2f914c
LAST-MODIFIED:20190214T095554Z
SUMMARY:Giardino del mondo - Rassegna stampa
DTSTART:20190213T091500Z
DTEND:20190213T110000Z
LOCATION:Liceo Carducci
CLASS:PUBLIC
END:VEVENT
END:VCALENDAR
