BEGIN:VCALENDAR
PRODID:-//AT Content Types//AT Event//EN
VERSION:1.0
BEGIN:VEVENT
DTSTART:20191113T090000Z
DTEND:20191113T130000Z
DCREATED:20191108T084143Z
UID:ATEvent-3ca480de35184b00b61ee15eaec708f5
SEQUENCE:0
LAST-MODIFIED:20191108T084145Z
SUMMARY:Elementi di antropologia medica
DESCRIPTION:Introduce Prof. Giuseppe Scandurra (Università di Ferrara
 )\nIntervengono Martina Belluto (Università di Ferrara) e Martina Con
 soloni (Università di Bologna)
LOCATION:Aula 1B\, Palazzo Turchi di Bagno\, C.so Ercole I d'Este 32
PRIORITY:3
TRANSP:0
END:VEVENT
END:VCALENDAR
