BEGIN:VCALENDAR
PRODID:-//AT Content Types//AT Event//EN
VERSION:2.0
METHOD:PUBLISH
BEGIN:VEVENT
DTSTAMP:20260419T154749Z
CREATED:20200928T084406Z
UID:ATEvent-f02fb34d60354e99be682af60702c2fe
LAST-MODIFIED:20200928T084410Z
SUMMARY:Educare senza conflitto… e altri paradossi pedagogici
DTSTART:20201006T160000Z
DTEND:20201006T180000Z
DESCRIPTION:Seminario tenuto dal Dott. Massimo Serra.\n\nChi fosse int
 eressato è pregato di inviare una mail alla tutor Dott.ssa Alessandra
  Chiaromonte (alessandra.chiaromonte@unife.it) entro le ore 18.00 del 
 4 Ottobre.
LOCATION:Webinar
CONTACT:Alessandra Chiaromonte\, alessandra.chiaromonte@unife.it
CLASS:PUBLIC
END:VEVENT
END:VCALENDAR
