BEGIN:VCALENDAR
PRODID:-//AT Content Types//AT Event//EN
VERSION:1.0
BEGIN:VEVENT
DTSTART:20181105T151500Z
DTEND:20181105T183000Z
DCREATED:20181030T090531Z
UID:ATEvent-f827d9f9f6564e34a1b4ac921bb504fd
SEQUENCE:0
LAST-MODIFIED:20181030T090532Z
SUMMARY:Eco di Micòl
DESCRIPTION:Nell'ambito del ciclo di seminari "Letteratura e città"\,
  presentazione del libro di Michela Pavani\, l'Eco di Micòl. A seguir
 e proiezione del film Mondonuovo di Davide Ferrario
LOCATION:Aula A11\, via degli Adelardi 33 - Dipartimento di Studi Umanistici (Polo degli Adelardi)
PRIORITY:3
TRANSP:0
END:VEVENT
END:VCALENDAR
