BEGIN:VCALENDAR
PRODID:-//AT Content Types//AT Event//EN
VERSION:1.0
BEGIN:VEVENT
DTSTART:20181119T151500Z
DTEND:20181120T183000Z
DCREATED:20181114T090939Z
UID:ATEvent-7eb80cfdba1c475d88a661e16fde6882
SEQUENCE:0
LAST-MODIFIED:20181114T091057Z
SUMMARY:Corpo\, bisogno e salute. Progettualità e pratiche d'intervento sul campo
DESCRIPTION:Il sistema socio-sanitario (a livello nazionale) sta cambi
 ando (chiudono ambulatori e ospedali\, nei nostri Comuni\, e aprono Ca
 se della Salute). Eppure l'impressione è che i cittadini e le cittadi
 ne non lo sappiano\, poiché non informati (vale lo stesse per chi in 
 questi posti ci lavora). \nCosa sta succedendo? Perché questo "cambio
  di paradigma"? Abbiamo\, per fortuna\, bravissimi antropologi e antro
 pologhe medici nel nostro Paese e il 19 e il 20 Novembre ne discutiamo
  in aula con Martina Belluto e Pier Paola Pierucci.\nSaranno presenti 
 anche medici di base del territorio
LOCATION:Aula A11\, via degli Adelardi 33\, Ferrara
PRIORITY:3
TRANSP:0
END:VEVENT
END:VCALENDAR
