BEGIN:VCALENDAR
PRODID:-//AT Content Types//AT Event//EN
VERSION:2.0
METHOD:PUBLISH
BEGIN:VEVENT
DTSTAMP:20260419T154046Z
CREATED:20181017T125832Z
UID:ATEvent-5d95a458308d4f77b9d8ed1f8240eb92
LAST-MODIFIED:20181017T125835Z
SUMMARY:Conferenze di "Educazione degli adulti"
DTSTART:20181112T090000Z
DTEND:20181213T150000Z
DESCRIPTION:Il ciclo di Conferenze di “Educazione degli adulti” in
 tende approfondire – attraverso la voce di esperti – alcuni temi c
 ruciali di questo settore di ricerca\, di didattica universitaria e di
  esperienza formativa. Gli in- contri si svolgono all’interno del co
 rso di “Educazione degli adulti”\, integrandone e approfondendone 
 i principali contenuti\, e prevedono\, oltre ai contributi dei Relator
 i e delle Relatrici\, un’occasione di dibatti- to e confronto. La pa
 rtecipazione all’iniziativa\, principalmente rivolta agli Studenti e
  alle Studentesse e ai Dottorandi e alle Dottorande dell’Universita
  degli Studi di Ferrara\, è aperta a tutti gli interessati.
LOCATION:Aula magna Drigo - Dipartimento di Studi umanistici\, via Paradiso 12\, Ferrara
CONTACT:Elena Marescotti\, 0532293511\, elena.marescotti@unife.it
CLASS:PUBLIC
END:VEVENT
END:VCALENDAR
