BEGIN:VCALENDAR
PRODID:-//AT Content Types//AT Event//EN
VERSION:2.0
METHOD:PUBLISH
BEGIN:VEVENT
DTSTAMP:20260419T154948Z
CREATED:20191106T085754Z
UID:ATEvent-85286e6352914ea69981828a2cfc47f7
LAST-MODIFIED:20191106T085828Z
SUMMARY:Come ridurre il pregiudizio in classe: ricerche e strategie di inclusione basate sul contatto intergruppi
DTSTART:20191108T111500Z
DTEND:20191108T124500Z
DESCRIPTION:Ne parleranno il Professor Loris Vezzali e il Dottor Gian 
 Antonio Di Bernardo (Università di Modena e Reggio Emilia)
LOCATION:Aula A8\, Polo degli Adelardi\, via degli Adelardi 33\, Ferrara
CONTACT:Emilio Paolo Visintin\, emiliopaolo.visintin@unife.it
CLASS:PUBLIC
END:VEVENT
END:VCALENDAR
