BEGIN:VCALENDAR
PRODID:-//AT Content Types//AT Event//EN
VERSION:2.0
METHOD:PUBLISH
BEGIN:VEVENT
DTSTAMP:20260419T155056Z
CREATED:20191108T145057Z
UID:ATEvent-0cac0844c7d844f1ab5a1ef3d6bbd498
LAST-MODIFIED:20191108T145101Z
SUMMARY:Collezioni e archivi come veicoli della globalizzazione.  Il caso dell'arte brasiliana nelle collezioni latino-americane negli Stati Uniti
DTSTART:20191112T093000Z
DTEND:20191112T110000Z
DESCRIPTION:Conferenza/lezione della Prof.ssa Maria Lucia Bueno Ramos 
 (Università Federale di Juiz de Fora (UFJF)\, Minas Gerais\, Brasile)
 
LOCATION:Aula C\, Dipartimento di Studi umanistici\, via Paradiso 12\, Ferrara
CLASS:PUBLIC
END:VEVENT
END:VCALENDAR
