BEGIN:VCALENDAR
PRODID:-//AT Content Types//AT Event//EN
VERSION:1.0
BEGIN:VEVENT
DTSTART:20180629T070000Z
DTEND:20180629T110000Z
DCREATED:20180606T093837Z
UID:ATEvent-72eda8b4eaf94901a72af8fcf9161993
SEQUENCE:0
LAST-MODIFIED:20180606T093837Z
SUMMARY:Centro Studi di Medicina di Genere: le ragioni di un Centro Universitario
LOCATION:Aula Magna\, Dipartimento di Economia e Management\, via Voltapaletto 11\, Ferrara
PRIORITY:3
TRANSP:0
END:VEVENT
END:VCALENDAR
