BEGIN:VCALENDAR
PRODID:-//AT Content Types//AT Event//EN
VERSION:2.0
METHOD:PUBLISH
BEGIN:VEVENT
DTSTAMP:20260419T152825Z
CREATED:20181030T090852Z
UID:ATEvent-946add5628b94016a806e915de68d4c8
LAST-MODIFIED:20181030T090854Z
SUMMARY:Casapercasa
DTSTART:20181106T131500Z
DTEND:20181106T150000Z
DESCRIPTION:Per il ciclo di seminari "Letteratura e città"\, presenta
 zione del libro "Casapercasa" di Sandro Abruzzese\, modera Giuseppe Sc
 andurra (Università di Ferrara)
LOCATION:Aula A11\, via degli Adelardi 33 - Dipartimento di Studi Umanistici (Polo degli Adelardi)
CLASS:PUBLIC
END:VEVENT
END:VCALENDAR
