BEGIN:VCALENDAR
PRODID:-//AT Content Types//AT Event//EN
VERSION:2.0
METHOD:PUBLISH
BEGIN:VEVENT
DTSTAMP:20260419T153558Z
CREATED:20181107T095405Z
UID:ATEvent-6f99559b8d8c44939c2838d20e809b0f
LAST-MODIFIED:20181107T095406Z
SUMMARY:Anzul delle Stelle
DTSTART:20181113T131500Z
DTEND:20181113T150000Z
DESCRIPTION:Nell'ambito del ciclo di seminari su Letteratura e Città 
 verrà proiettato "Anzul delle Stelle" (2016)\, di Giuseppe di Bernard
 o
LOCATION:Aula A11\, Polo degli Adelardi\, via degli Adelardi 33
CONTACT:Giuseppe Scandurra\, giuseppe.scandurra@unife.it
CLASS:PUBLIC
END:VEVENT
END:VCALENDAR
