BEGIN:VCALENDAR
PRODID:-//AT Content Types//AT Event//EN
VERSION:2.0
METHOD:PUBLISH
BEGIN:VEVENT
DTSTAMP:20260419T143402Z
CREATED:20171018T134908Z
UID:ATEvent-5f771afe40c1482d8724528743a0b371
LAST-MODIFIED:20171018T135212Z
SUMMARY:Why microwear matters: case studies from Dutch prehistory
DTSTART:20171019T070000Z
DTEND:20171020T090000Z
LOCATION:Palazzo Turchi di Bagno - Dip. di Studi Umanistici - Aula 1E e 1C- Corso Ercole I d'Este\, Ferrara
CLASS:PUBLIC
END:VEVENT
END:VCALENDAR
