BEGIN:VCALENDAR
PRODID:-//AT Content Types//AT Event//EN
VERSION:1.0
BEGIN:VEVENT
DTSTART:20171124T100000Z
DTEND:20171124T120000Z
DCREATED:20171122T091047Z
UID:ATEvent-92fac183decb4615b3b21ef4795bdf5b
SEQUENCE:0
LAST-MODIFIED:20171122T091048Z
SUMMARY:What  Taphonomy Tell Us About Neanderthals?
LOCATION:Palazzo Turchi di Bagno - Dip. di Studi Umanistici - Aula Magna "Campana"
PRIORITY:3
TRANSP:0
END:VEVENT
END:VCALENDAR
