BEGIN:VCALENDAR
PRODID:-//AT Content Types//AT Event//EN
VERSION:2.0
METHOD:PUBLISH
BEGIN:VEVENT
DTSTAMP:20260419T143912Z
CREATED:20180510T075006Z
UID:ATEvent-ab6a77c80d4943fbba3f7cd588412e35
LAST-MODIFIED:20180510T075007Z
SUMMARY:Un automne a Pincevent: le campement du niveau IV20\, ou approche d'une société magdalénienne
DTSTART:20180518T130000Z
DTEND:20180518T150000Z
DESCRIPTION:Prof.ssa Claudine Karlin (Conseil National de la Recherche
  Scientifique - UMR7041ArScAn)
LOCATION:Aula 1A\, Dipartimento di Studi umanistici\, C.so Ercole I d'Este 32\, Ferrara
CLASS:PUBLIC
END:VEVENT
END:VCALENDAR
