BEGIN:VCALENDAR
PRODID:-//AT Content Types//AT Event//EN
VERSION:2.0
METHOD:PUBLISH
BEGIN:VEVENT
DTSTAMP:20260419T143924Z
CREATED:20180406T142254Z
UID:ATEvent-66052bc1b7274eddabad6e16d4a847c3
LAST-MODIFIED:20180406T142255Z
SUMMARY:Tecnologie per la libera fruizione del patrimonio culturale
DTSTART:20180412T123000Z
DTEND:20180412T143000Z
DESCRIPTION:Seminario a cura del Prof. Carlo Peretto (Università di F
 errara).
LOCATION:Aula 1A\, C.so Ercole I d'Este\, 32
CLASS:PUBLIC
END:VEVENT
END:VCALENDAR
