BEGIN:VCALENDAR
PRODID:-//AT Content Types//AT Event//EN
VERSION:2.0
METHOD:PUBLISH
BEGIN:VEVENT
DTSTAMP:20260419T143644Z
CREATED:20180406T075451Z
UID:ATEvent-a66e66a7cb1e4c0fbf0ef342b1c23570
LAST-MODIFIED:20180406T075452Z
SUMMARY:Soil Micromorphology and Palaeolithic Archaeology. Presentation of Study-cases
DTSTART:20180409T150000Z
DTEND:20180409T173000Z
DESCRIPTION:Seminario del prof. Cristiano Nicosia (Università degli S
 tudi di Padova)
LOCATION:C.so Ercole I d'Este 32
CLASS:PUBLIC
END:VEVENT
END:VCALENDAR
