BEGIN:VCALENDAR
PRODID:-//AT Content Types//AT Event//EN
VERSION:2.0
METHOD:PUBLISH
BEGIN:VEVENT
DTSTAMP:20260419T143626Z
CREATED:20170214T090503Z
UID:ATEvent-670b673c7e5a404f943d4e58a36b57b1
LAST-MODIFIED:20170214T090504Z
SUMMARY:Sfide e responsabilità per un Pianeta in transizione
DTSTART:20170222T093000Z
DTEND:20170222T120000Z
LOCATION:Dipartimento Studi Umanistici\, Aula Magna\, via Paradiso 12
CLASS:PUBLIC
END:VEVENT
END:VCALENDAR
