BEGIN:VCALENDAR
PRODID:-//AT Content Types//AT Event//EN
VERSION:2.0
METHOD:PUBLISH
BEGIN:VEVENT
DTSTAMP:20260419T143710Z
CREATED:20191007T075705Z
UID:ATEvent-9d4d42f21bb541b7968ac2b2cc7f87d7
LAST-MODIFIED:20191007T075706Z
SUMMARY:Seminar on the Middle Stone Age in South Africa
DTSTART:20191014T090000Z
DTEND:20191014T140000Z
DESCRIPTION:Seminari tenuti dal Professor Nicholas Conard dell'Univers
 ità di Tubinga\, incentrati sui cambiamenti culturali nelle Middle St
 one Age africana e sulle evidenze archeologiche del sito di Schoeninge
 n (nordGermania\, 300mila anni fa).
LOCATION:C.so Ercole I d'Este 32\, Palazzo Turchi di Bagno\, aula 1A
CLASS:PUBLIC
END:VEVENT
END:VCALENDAR
