BEGIN:VCALENDAR
PRODID:-//AT Content Types//AT Event//EN
VERSION:2.0
METHOD:PUBLISH
BEGIN:VEVENT
DTSTAMP:20260419T143528Z
CREATED:20180125T150442Z
UID:ATEvent-3f478798623d4f4ea765ae455995dbdf
LAST-MODIFIED:20180125T150443Z
SUMMARY:Seminar on Palaeolithic Geochronology
DTSTART:20180202T110000Z
DTEND:20180202T130000Z
LOCATION:Aula 1A - C.so Ercole I d'Este 32\, Dipartimento di Studi Umanistici
CLASS:PUBLIC
END:VEVENT
END:VCALENDAR
