BEGIN:VCALENDAR
PRODID:-//AT Content Types//AT Event//EN
VERSION:2.0
METHOD:PUBLISH
BEGIN:VEVENT
DTSTAMP:20260419T143924Z
CREATED:20180510T074725Z
UID:ATEvent-9a9cdfe38f6a49c39ad49e3e85237edf
LAST-MODIFIED:20180510T074725Z
SUMMARY:Pincevent entre Préhistoire et ethnographie: campement d'hiver\, campement d'automne\, due maniere d'habiter
DTSTART:20180518T090000Z
DTEND:20180518T110000Z
DESCRIPTION:Prof.ssa Claudine Karlin (Conseil National de la Recherche
  Scientifique) - UMR7041ArScAn
LOCATION:Aula 1A\, Dipartimento di Studi umanistici\, C.so Ercole I d'Este 32
CLASS:PUBLIC
END:VEVENT
END:VCALENDAR
