BEGIN:VCALENDAR
PRODID:-//AT Content Types//AT Event//EN
VERSION:1.0
BEGIN:VEVENT
DTSTART:20171121T100000Z
DTEND:20171121T120000Z
DCREATED:20171109T081956Z
UID:ATEvent-874462348a2d4e86b6545846aa9599b1
SEQUENCE:0
LAST-MODIFIED:20171109T081957Z
SUMMARY:News dagli scavi
LOCATION:Aula 1A\, Corso Ercole I d'Este 32
PRIORITY:3
TRANSP:0
END:VEVENT
END:VCALENDAR
