BEGIN:VCALENDAR
PRODID:-//AT Content Types//AT Event//EN
VERSION:2.0
METHOD:PUBLISH
BEGIN:VEVENT
DTSTAMP:20260419T143402Z
CREATED:20171128T083102Z
UID:ATEvent-3448c8ea860f46cebdbd776ea0368654
LAST-MODIFIED:20171128T083103Z
SUMMARY:In Search for Modern Human
DTSTART:20171129T150000Z
DTEND:20171129T170000Z
LOCATION:Aula 1E\, Corso Ercole I d'Este 32\, Dipartimento di Studi Umanistici - Ferrara
CLASS:PUBLIC
END:VEVENT
END:VCALENDAR
