BEGIN:VCALENDAR
PRODID:-//AT Content Types//AT Event//EN
VERSION:1.0
BEGIN:VEVENT
DTSTART:20170715T160000Z
DTEND:20170715T190000Z
DCREATED:20170713T070934Z
UID:ATEvent-2699c50a8c634e98ada19cd23d1589da
SEQUENCE:0
LAST-MODIFIED:20170713T070935Z
SUMMARY:Identità e metamorfosi: Lello Esposito
LOCATION:Palazzo Turchi di Bagno\, corso Ercole I d'Este 32\, Ferrara
PRIORITY:3
TRANSP:0
END:VEVENT
END:VCALENDAR
