BEGIN:VCALENDAR
PRODID:-//AT Content Types//AT Event//EN
VERSION:1.0
BEGIN:VEVENT
DTSTART:20190409T140000Z
DTEND:20190409T160000Z
DCREATED:20190405T070236Z
UID:ATEvent-9898522eeee7499facd25c16d4b92176
SEQUENCE:0
LAST-MODIFIED:20190405T070237Z
SUMMARY:Ichno-archeologia di un ecosistema Paleolitico: le orme umane e animali della Grotta della Basura (Toirano\, Sv)
DESCRIPTION:Seminario tenuto dal Dott. Marco Avanzini\, MUSE - Museo d
 elle Scienze\, Trento
LOCATION:Aula 1A\, C.so Ercole I d'Este 32\, Ferrara
PRIORITY:3
TRANSP:0
END:VEVENT
END:VCALENDAR
