BEGIN:VCALENDAR
PRODID:-//AT Content Types//AT Event//EN
VERSION:2.0
METHOD:PUBLISH
BEGIN:VEVENT
DTSTAMP:20260419T143444Z
CREATED:20180511T124047Z
UID:ATEvent-e1ea54d9ae14452fb0cae918b7f56c6b
LAST-MODIFIED:20180511T124048Z
SUMMARY:Evoluzione dell'uomo
DTSTART:20180516T120000Z
DTEND:20180517T110000Z
DESCRIPTION:La Sezione di Scienze Preistoriche e Antropologiche organi
 zza due seminari inerenti l'evoluzione dell'Uomo\, nello specifico l'e
 voluzione del cervello nel genere Homo e il primo popolamento dell'Asi
 a continentale ed insulare. \nI seminari saranno tenuti dalla Prof.ssa
  Dominique Grimaud-Hervé del Muséum national d'Histoire naturelle di
  Parigi\, Paleoantropologa che collabora con la Sezione da numerosi an
 ni (recentemente con il dentino umano rinvenuto nel sito di Isernia la
  Pineta\, diretto dal Prof. Peretto).
LOCATION:Aula 1E\, Palazzo Turchi di Bagno\, C.so Ercole I d'Este 32 - Ferrara
CLASS:PUBLIC
END:VEVENT
END:VCALENDAR
