BEGIN:VCALENDAR
PRODID:-//AT Content Types//AT Event//EN
VERSION:2.0
METHOD:PUBLISH
BEGIN:VEVENT
DTSTAMP:20260419T143626Z
CREATED:20180522T073719Z
UID:ATEvent-11dbe2e41d8c4bd79a65bba69ca8bf25
LAST-MODIFIED:20180522T073721Z
SUMMARY:Enigmantic Neanderthal structures (Bruniquel cave\, SW France)
DTSTART:20180522T093000Z
DTEND:20180522T110000Z
DESCRIPTION:Seminar on Palaeolithic Archaeology\nProf. Jacques Jaubert
  (PACEA Université Bordeaux\, France)
LOCATION:Aula 1A\, Dipartimento di Studi umanistici\, C.so Ercole I d'Este\, 32
CLASS:PUBLIC
END:VEVENT
END:VCALENDAR
