BEGIN:VCALENDAR
PRODID:-//AT Content Types//AT Event//EN
VERSION:1.0
BEGIN:VEVENT
DTSTART:20180522T133000Z
DTEND:20180522T160000Z
DCREATED:20180522T073939Z
UID:ATEvent-16456f66058b4f269d9c9c1ee3015ed3
SEQUENCE:0
LAST-MODIFIED:20180522T073939Z
SUMMARY:Cussac\, Dordogne\, France: Grotte ornée et supulcrale du Gravettien
DESCRIPTION:Seminar on Palaeolithic Archaeology\nProf. Jacques Jaubert
  (PACEA\, Université Bordeaux\, France)
LOCATION:Aula 1A\, Dipartimento di Studi umanistici\, c.so Ercole I d'Este 32
PRIORITY:3
TRANSP:0
END:VEVENT
END:VCALENDAR
