BEGIN:VCALENDAR
PRODID:-//AT Content Types//AT Event//EN
VERSION:2.0
METHOD:PUBLISH
BEGIN:VEVENT
DTSTAMP:20260419T143535Z
CREATED:20190516T163101Z
UID:ATEvent-343d63dbe9884d6bba6047079b56783f
LAST-MODIFIED:20190516T163102Z
SUMMARY:Archeologi: quale lavoro!?
DTSTART:20190522T120000Z
DTEND:20190522T160000Z
DESCRIPTION:Il mondo del lavoro incontra gli studenti
LOCATION:Aula 1A\, Palazzo Turchi di Bagno\, c.so Ercole I d'Este 32\, Ferrara
CLASS:PUBLIC
END:VEVENT
END:VCALENDAR
