BEGIN:VCALENDAR
PRODID:-//AT Content Types//AT Event//EN
VERSION:2.0
METHOD:PUBLISH
BEGIN:VEVENT
DTSTAMP:20260419T154927Z
CREATED:20181128T083825Z
UID:ATEvent-cbebefe38b8c42cb83db1d62e7e9dde8
LAST-MODIFIED:20181128T083826Z
SUMMARY:Weeping like a Beaten Child: Figurative Language and the Emotions in Chaucer and Malory
DTSTART:20181206T100000Z
DTEND:20181206T120000Z
DESCRIPTION:Seminario tenuto da Redmond Barry\, Distinguished Professo
 r at the University of Melbourne e studiosa di letteratura inglese med
 ievale.
LOCATION:Auditorium Santa Lucia\, via Ariosto 35\, Ferrara
CLASS:PUBLIC
END:VEVENT
END:VCALENDAR
