BEGIN:VCALENDAR
PRODID:-//AT Content Types//AT Event//EN
VERSION:1.0
BEGIN:VEVENT
DTSTART:20191024T063000Z
DTEND:20191024T080000Z
DCREATED:20191022T132444Z
UID:ATEvent-042f392ddc414c4b8138b4bdb2b4ed6d
SEQUENCE:0
LAST-MODIFIED:20191022T132445Z
SUMMARY:Tradurre i testi medievali: finalità e problematiche
DESCRIPTION:Seminario del professor Fulvio Ferrari (Università degli 
 Studi di Trento)
LOCATION:Aula A10\, Polo degli Adelardi\, via degli Adelardi 33\, Ferrara
PRIORITY:3
TRANSP:0
END:VEVENT
END:VCALENDAR
