BEGIN:VCALENDAR
PRODID:-//AT Content Types//AT Event//EN
VERSION:1.0
BEGIN:VEVENT
DTSTART:20181206T140000Z
DTEND:20181206T163000Z
DCREATED:20181128T090456Z
UID:ATEvent-8cf26c43bebf43d7b1894d857bd1cc98
SEQUENCE:0
LAST-MODIFIED:20181128T090457Z
SUMMARY:The Nexus between Sustainability and Human Capacities for Making Flourishing Life-Worlds
DESCRIPTION:Seminario tenuto da Paul James\, Professor of Globalizatio
 n and Culture Diversity and Director of the Institute for Culture and 
 Society at Western Sydney University
LOCATION:Auditorium Santa Lucia\, via Ariosto 35\, Ferrara
PRIORITY:3
TRANSP:0
END:VEVENT
END:VCALENDAR
