BEGIN:VCALENDAR
PRODID:-//AT Content Types//AT Event//EN
VERSION:2.0
METHOD:PUBLISH
BEGIN:VEVENT
DTSTAMP:20260419T154322Z
CREATED:20150729T100417Z
UID:ATEvent-fa073bb6a5884a2c97c4035dd64dd6dd
LAST-MODIFIED:20150729T163408Z
SUMMARY:Sprache und Bild / Linguaggio e Immagine \, 13 ottobre 2015
DTSTART:20151013T070000Z
DTEND:20151013T160000Z
DESCRIPTION:Convegno (Giornata di studio)
LOCATION:IUSS\, Aula 1\, Via delle Scienze\, 41/B
CONTACT:Prof. Ulrike Kaunzner\, ulrike.kaunzner@unife.it
URL:http://docente.unife.it/knzlkd/SpracheundBildLinguaggioeImmagineFerrara102015PROGRAMMA.pdf/view
CLASS:PUBLIC
END:VEVENT
END:VCALENDAR
