BEGIN:VCALENDAR
PRODID:-//AT Content Types//AT Event//EN
VERSION:1.0
BEGIN:VEVENT
DTSTART:20161124T130000Z
DTEND:20161126T140000Z
DCREATED:20161107T104240Z
UID:ATEvent-65dfe92e911e464b896300cd107bead7
SEQUENCE:0
LAST-MODIFIED:20161110T163858Z
SUMMARY:Peter Weiss 1916-2016 - Experiment und Engagement heute
LOCATION:IUSS Istituto Universitario di Studi Superiori\, Università di Ferrara\, via Scienze 41/B Ferrara
PRIORITY:3
TRANSP:0
END:VEVENT
END:VCALENDAR
