BEGIN:VCALENDAR
PRODID:-//AT Content Types//AT Event//EN
VERSION:2.0
METHOD:PUBLISH
BEGIN:VEVENT
DTSTAMP:20260419T154543Z
CREATED:20161108T081047Z
UID:ATEvent-9aab189deac346369f5a7b26eb9f8222
LAST-MODIFIED:20161108T081048Z
SUMMARY:Osservazioni su alcuni quantificatori dell'italiano antico
DTSTART:20161114T110500Z
DTEND:20161114T130500Z
LOCATION:Polo degli Adelardi\, aula 11A - via degli Adelardi 33
CLASS:PUBLIC
END:VEVENT
END:VCALENDAR
