BEGIN:VCALENDAR
PRODID:-//AT Content Types//AT Event//EN
VERSION:1.0
BEGIN:VEVENT
DTSTART:20161215T110000Z
DTEND:20161215T180000Z
DCREATED:20161130T125512Z
UID:ATEvent-c43153f2812b47f599bc41dcc2f3f33b
SEQUENCE:0
LAST-MODIFIED:20161130T125749Z
SUMMARY:L'arte del rovescio. La traduzione fra letteratura e editoria
LOCATION:Aula EC2\, via Voltapaletto 11
PRIORITY:3
TRANSP:0
END:VEVENT
END:VCALENDAR
