BEGIN:VCALENDAR
PRODID:-//AT Content Types//AT Event//EN
VERSION:2.0
METHOD:PUBLISH
BEGIN:VEVENT
DTSTAMP:20260419T142843Z
CREATED:20191009T123854Z
UID:ATEvent-9fc3b559542f4e12ada7fb4975178f84
LAST-MODIFIED:20191009T123855Z
SUMMARY:La (in)dicibilità del male. Quale lingua per raccontare la Shoah?
DTSTART:20191009T141500Z
DTEND:20191111T170000Z
LOCATION:Aula A1\, Polo didattico degli Adelardi\, via Adelardi 33
CLASS:PUBLIC
END:VEVENT
END:VCALENDAR
