BEGIN:VCALENDAR
PRODID:-//AT Content Types//AT Event//EN
VERSION:1.0
BEGIN:VEVENT
DTSTART:20161115T103000Z
DTEND:20161116T150000Z
DCREATED:20161114T084521Z
UID:ATEvent-9b74fbac4e274e15937f60d909d04335
SEQUENCE:0
LAST-MODIFIED:20161114T084522Z
SUMMARY:Incontri sulle letterature angloamericane  UNIFE
LOCATION:IUSS e Dipartimento di Studi Umanistici\, Università di Ferrara
PRIORITY:3
TRANSP:0
END:VEVENT
END:VCALENDAR
