BEGIN:VCALENDAR
PRODID:-//AT Content Types//AT Event//EN
VERSION:2.0
METHOD:PUBLISH
BEGIN:VEVENT
DTSTAMP:20260419T154948Z
CREATED:20180410T135402Z
UID:ATEvent-c6a6fed37fe9460f810c7c7ce729ee32
LAST-MODIFIED:20180410T135403Z
SUMMARY:"Riparare il mondo". Le strategie della pace\, le vie del disarmo e il paradigma della vulnerabilità
DTSTART:20180419T080000Z
DTEND:20180419T170000Z
DESCRIPTION:Convegno
LOCATION:Sala Consiliare\, Dipartimento di Giurisprudenza\, c.so Ercole I d'Este 44\, Ferrara
CLASS:PUBLIC
END:VEVENT
END:VCALENDAR
