BEGIN:VCALENDAR
PRODID:-//AT Content Types//AT Event//EN
VERSION:2.0
METHOD:PUBLISH
BEGIN:VEVENT
DTSTAMP:20260419T155056Z
CREATED:20190507T124658Z
UID:ATEvent-b6ef657cb83e43da95267b67acf00d56
LAST-MODIFIED:20190507T124659Z
SUMMARY:Pensare l'Europa. Filosofia\, economia e politica in età illuministica
DTSTART:20190521T130000Z
DTEND:20190522T173000Z
DESCRIPTION:VII Giornata filosofica interateneo
LOCATION:Dip.to di Studi Umanistici e Dip.to di Economia e Management
CLASS:PUBLIC
END:VEVENT
END:VCALENDAR
