BEGIN:VCALENDAR
PRODID:-//AT Content Types//AT Event//EN
VERSION:1.0
BEGIN:VEVENT
DTSTART:20161128T150000Z
DTEND:20161128T180000Z
DCREATED:20161125T083220Z
UID:ATEvent-647b1f6a2eb94bb698ba2b8c1636f3d6
SEQUENCE:0
LAST-MODIFIED:20161125T083221Z
SUMMARY:Le catastrofi naturali e il sapere della tecnica
LOCATION:IUSS Sala Conferenze\, via delle Scienze 41/B
PRIORITY:3
TRANSP:0
END:VEVENT
END:VCALENDAR
