BEGIN:VCALENDAR
PRODID:-//AT Content Types//AT Event//EN
VERSION:2.0
METHOD:PUBLISH
BEGIN:VEVENT
DTSTAMP:20260419T154852Z
CREATED:20181123T150055Z
UID:ATEvent-46f329534038482ea71cfa2c1d3ef250
LAST-MODIFIED:20181123T150056Z
SUMMARY:La meraviglia. Filosofia\, scienza\, letteratura
DTSTART:20181130T133000Z
DTEND:20181201T120000Z
DESCRIPTION:Convegno di studi
LOCATION:Auditorium Santa Lucia\, via Ariosto 35\, Ferrara\; Sala Agnelli\, Biblioteca Comunale Ariostea\, via delle Scienze 17\, Ferrara
CONTACT:Marco Bresadola\, marco.bresadola@unife.it
CLASS:PUBLIC
END:VEVENT
END:VCALENDAR
