BEGIN:VCALENDAR
PRODID:-//AT Content Types//AT Event//EN
VERSION:2.0
METHOD:PUBLISH
BEGIN:VEVENT
DTSTAMP:20260419T155050Z
CREATED:20190507T075336Z
UID:ATEvent-550df666feca41eca5fcd9867d54e5a9
LAST-MODIFIED:20190507T075726Z
SUMMARY:Essere speciali. In cosa siamo diversi dal mondo dei viventi che stiamo trasformando?
DTSTART:20190509T140000Z
DTEND:20190509T160000Z
LOCATION:aula 1A\, Palazzo Turchi di Bagno\, C.so Ercole I d’Este 32
CONTACT:Mariasilvia Accardo\, +39 0532 293518\, mariasilvia.accardo@unife.it
CLASS:PUBLIC
END:VEVENT
END:VCALENDAR
