BEGIN:VCALENDAR
PRODID:-//AT Content Types//AT Event//EN
VERSION:2.0
METHOD:PUBLISH
BEGIN:VEVENT
DTSTAMP:20260419T154910Z
CREATED:20180416T121018Z
UID:ATEvent-3c7d67fdf181402689681498ce9b85be
LAST-MODIFIED:20180416T121018Z
SUMMARY:Corpi\, segni\, miracoli. Medicina e filosofia tra Medioevo ed età moderna
DTSTART:20180420T080000Z
DTEND:20180420T100000Z
LOCATION:Aula I\, Dipartimento di Studi umanistici - via Paradiso 12\, Ferrara
CLASS:PUBLIC
END:VEVENT
END:VCALENDAR
