BEGIN:VCALENDAR
PRODID:-//AT Content Types//AT Event//EN
VERSION:1.0
BEGIN:VEVENT
DTSTART:20190628T075500Z
DTEND:20190628T075500Z
DCREATED:20190507T075612Z
UID:ATEvent-9fe4692e162e4eb69af3565064a09a09
SEQUENCE:0
LAST-MODIFIED:20190507T075613Z
SUMMARY:Camici di silicio.  Algoritmi o narrazioni alla base della relazione tra medico e paziente?
LOCATION:Da definire
PRIORITY:3
TRANSP:0
END:VEVENT
END:VCALENDAR
