BEGIN:VCALENDAR
PRODID:-//AT Content Types//AT Event//EN
VERSION:1.0
BEGIN:VEVENT
DTSTART:20190628T140000Z
DTEND:20190628T160000Z
DCREATED:20190624T095614Z
UID:ATEvent-1fb0d72a1157486391d37bccf0fade2b
SEQUENCE:0
LAST-MODIFIED:20190624T095617Z
SUMMARY:Camici di silicio. Algoritmi o narrazioni alla base della relazione tra medico e paziente?
DESCRIPTION:Intervengono Maria Cecilia Cercato\, medico dell’Istitut
 o Nazionale Tumori Regina Elena di Roma\, e Gilberto Corbellini\, filo
 sofo e storico della medicina de La Sapienza\, Università di Roma.\n\
 nOrganizzazione a cura del Laboratorio di ricerca in storia e comunica
 zione della scienza DOS - Design of Science\, e del Master in Giornali
 smo e comunicazione istituzionale della Scienza dell'Università di Fe
 rrara.
LOCATION:Aula G\, Dipartimento di Studi umanistici - via del Paradiso\, 12\, Ferrara
PRIORITY:3
TRANSP:0
END:VEVENT
END:VCALENDAR
